BEGIN:VCALENDAR
VERSION:2.0
PRODID:icalendar-ruby
CALSCALE:GREGORIAN
METHOD:PUBLISH
BEGIN:VEVENT
DTSTAMP:20260423T062723Z
UID:17-791045@phoenixchurchofchrist.org
DTSTART:20261101T170000Z
DTEND:20261101T180000Z
CLASS:PUBLIC
CREATED:20260422T190439
DESCRIPTION:Sunday Service (East Service)
LAST-MODIFIED:20260422T190439
LOCATION:500 S McQueen Rd\, Gilbert\, AZ 85233
SUMMARY:Sunday Service 
URL;VALUE=URI:https://phoenixchurchofchrist.org/events/sunday-service--17/2
 026-11-01
ATTACH;FILENAME=mesquite.jpeg;FMTTYPE=image/jpeg:https://dq5pwpg1q8ru0.clou
 dfront.net/2022/10/26/14/30/14/59a56f81-404b-41e3-8292-4fd007f8970e/mesqui
 te.jpeg
END:VEVENT
END:VCALENDAR
