BEGIN:VCALENDAR
VERSION:2.0
PRODID:icalendar-ruby
CALSCALE:GREGORIAN
METHOD:PUBLISH
BEGIN:VEVENT
DTSTAMP:20260423T012615Z
UID:16-790456@phoenixchurchofchrist.org
DTSTART:20261011T220000Z
DTEND:20261011T230000Z
CLASS:PUBLIC
CREATED:20260422T161146
DESCRIPTION:Sunday Service (West Service)
LAST-MODIFIED:20260422T161146
LOCATION:7569 W Greenway Rd\, Peoria\, AZ 85381
SUMMARY:Sunday Service 
URL;VALUE=URI:https://phoenixchurchofchrist.org/events/sunday-service/2026-
 10-11
ATTACH;FILENAME=pure heart.jpeg;FMTTYPE=image/jpeg:https://dq5pwpg1q8ru0.cl
 oudfront.net/2022/10/26/14/28/49/b11ece34-19bf-4302-a0cd-297840d648d2/pure
 %20heart.jpeg
END:VEVENT
END:VCALENDAR
